BEGIN:VCALENDAR
VERSION:2.0
PRODID:-//wp-events-plugin.com//7.2.3.1//EN
TZID:Europe/Paris
X-WR-TIMEZONE:Europe/Paris
BEGIN:VEVENT
UID:407@asso.publier74.org
DTSTART;TZID=Europe/Paris:20260509T200000
DTEND;TZID=Europe/Paris:20260509T234500
DTSTAMP:20260421T074423Z
URL:https://asso.publier74.org/events/soiree-dansante-8/
SUMMARY:SOIREE DANSANTE
DESCRIPTION:\nNe manquez pas la dernière soirée dansante de la saison :\n
 \n\nVenez faire scintiller L'Étoile du lac en profitant de la vue imprena
 ble du coucher de soleil sur le Léman !\n\n\nComme vous avez particulièr
 ement apprécié le mix de toutes les danses et notre assiette Chablaisien
 ne lors de notre soirée de mars\, nous renouvelons cette formule.\n\n\nL'
 assiette Chablaisienne (pour 1 personne) est sur réservation uniquement.\
 n\n\nLe bar du club vous proposera ses cocktails\, pétillants\, bières e
 t vins\, ainsi que ses snackings et pâtisseries maison dans son espace de
  convivialité.\n\n\nLes boissons softs sont à votre disposition gratuite
 ment.\n\n\nÉcocup : consigne de 2 € si vous n'apportez pas la vôtre\n\
 n\nA partir de 20h\n\n\nRock et toutes danses\n\n\nRESERVATIONS ICI : http
 s://www.billetweb.fr/soiree-dansante-samedi-9-mai-2026\n
ATTACH;FMTTYPE=image/jpeg:https://asso.publier74.org/wp-content/uploads/20
 26/04/Soiree-9-mai-2.jpg
CATEGORIES:Jeu - soirée - repas,Manifestation
LOCATION:Salle des fêtes\, Publier\, 74500\, France
X-APPLE-STRUCTURED-LOCATION;VALUE=URI;X-ADDRESS=Publier\, 74500\, France;X-
 APPLE-RADIUS=100;X-TITLE=Salle des fêtes:geo:0,0
END:VEVENT
BEGIN:VTIMEZONE
TZID:Europe/Paris
X-LIC-LOCATION:Europe/Paris
BEGIN:DAYLIGHT
DTSTART:20260329T030000
TZOFFSETFROM:+0100
TZOFFSETTO:+0200
TZNAME:CEST
END:DAYLIGHT
END:VTIMEZONE
END:VCALENDAR