BEGIN:VCALENDAR
VERSION:2.0
PRODID:-//wp-events-plugin.com//7.2.3.1//EN
TZID:Europe/Paris
X-WR-TIMEZONE:Europe/Paris
BEGIN:VEVENT
UID:58@asso.publier74.org
DTSTART;TZID=Europe/Paris;VALUE=DATE:20240420
DTEND;TZID=Europe/Paris;VALUE=DATE:20240422
DTSTAMP:20240127T093032Z
URL:https://asso.publier74.org/events/lalsace-et-le-royal-palace/
SUMMARY:L'Alsace et le Royal Palace
DESCRIPTION:Proposé par Commun'Anime\n\n1er jour : Départ vers la fronti
 ère suisse pour emprunter l’autoroute Berne-Bâle\nA Riquewihr\, visite
  d’une cave suivie d’une dégustation de crus locaux. Déjeuner choucr
 oute. Visite libre de cette cité restée telle qu’au XVIème siècle.\n
 Continuation vers Strasbourg. Installation à l’hôtel dans la région.\
 n\nDans la soirée\, départ avec un car local pour Kirrwiller où\, insta
 llés devant\, sur des « places d’honneur » vous pourrez assister à u
 n diner spectacle. au Royal Palace Adam Meyer.\nUn univers empreint de rê
 ve et de magie \; danseurs\, acrobates et autres artistes vous promettent 
 un spectacle inoubliable. Dîner et soirée dansante à l’ambiance garan
 tie.\nRetour tardif à l’hôtel pour le logement.\n\nLe lendemain : Croi
 sière d’une heure 30 sur l’Ill à Strasbourg.\nDéjeuner avant le voy
 age retour par les autoroutes suisses.\nLes horaires de départ et de reto
 ur sont données à titre indicatif. Les horaires exacts vous seront préc
 isés avant le départ.\n\nPlus de renseignements https://www.communanime.
 fr/\n\n
ATTACH;FMTTYPE=image/jpeg:https://asso.publier74.org/wp-content/uploads/20
 24/01/commun_anime_01_.jpg
CATEGORIES:Manifestation
END:VEVENT
BEGIN:VTIMEZONE
TZID:Europe/Paris
X-LIC-LOCATION:Europe/Paris
BEGIN:DAYLIGHT
DTSTART:20240331T030000
TZOFFSETFROM:+0100
TZOFFSETTO:+0200
TZNAME:CEST
END:DAYLIGHT
END:VTIMEZONE
END:VCALENDAR