BEGIN:VCALENDAR
VERSION:2.0
PRODID:-//wp-events-plugin.com//7.2.3.1//EN
TZID:Europe/Paris
X-WR-TIMEZONE:Europe/Paris
BEGIN:VEVENT
UID:76@asso.publier74.org
DTSTART;TZID=Europe/Paris:20240706T140000
DTEND;TZID=Europe/Paris:20240706T234500
DTSTAMP:20240211T211416Z
URL:https://asso.publier74.org/events/fete-du-sauvetage-amphion-publier/
SUMMARY:Fete du Sauvetage Amphion Publier
DESCRIPTION:Fete de la Section de Sauvetage d'Amphion Publier le 6 Juillet 
 au parc du miroir de 14h à 01h.\nAu Programme:\n\n 	Courses de rame tradi
 tionnelle SISL avec la 3eme manche du super challenge des sections frança
 ises.\n 	et équipes inter-sociétés : dossier de participation complet s
 ur notre site.\n\nEntrainements en soirée dès le 24/06: inscription pré
 alable aux premiers arrivés premier servis.\n\nA la fête vous trouverez 
 : bar\; petite restauration\; repas sur place\; bal gratuit sous chapiteau
 .\n\nN'hésitez pas à communiquer l'évènement autour de vous et pourquo
 i pas constituer votre équipage de 8 rameurs.\nUn bon moyen de fédérer 
 et de travailler l'esprit d'équipe: la course est gratuite\, l'équipemen
 t est prêté.\nBons souvenirs garantis!! Plusieurs entreprises de la rég
 ion concourent chaque année depuis plusieurs années.\nVenez vous mesurer
  !
ATTACH;FMTTYPE=image/jpeg:https://asso.publier74.org/wp-content/uploads/20
 24/02/sauvetage1.jpg
CATEGORIES:Manifestation,Stage / Concours / Tournois / Course
END:VEVENT
BEGIN:VTIMEZONE
TZID:Europe/Paris
X-LIC-LOCATION:Europe/Paris
BEGIN:DAYLIGHT
DTSTART:20240331T030000
TZOFFSETFROM:+0100
TZOFFSETTO:+0200
TZNAME:CEST
END:DAYLIGHT
END:VTIMEZONE
END:VCALENDAR