BEGIN:VCALENDAR
VERSION:2.0
PRODID:-//wp-events-plugin.com//7.2.3.1//EN
TZID:Europe/Paris
X-WR-TIMEZONE:Europe/Paris
BEGIN:VEVENT
UID:174@asso.publier74.org
DTSTART;TZID=Europe/Paris:20241111T100000
DTEND;TZID=Europe/Paris:20241111T120000
DTSTAMP:20241030T102716Z
URL:https://asso.publier74.org/events/commemoration-11-novembre-1918/
SUMMARY:Commémoration - 11 novembre 1918
DESCRIPTION:La commémoration de l’Armistice de la Première guerre mondi
 ale débutera à 10h avec un défilé au départ du cimetière.\n\nLa cér
 émonie se tiendra sur l’esplanade Jean Moulin avec dépôt de gerbes et
  allocution du maire.\n\nUn vin d’honneur sera ensuite offert aux prése
 nts.
ATTACH;FMTTYPE=image/jpeg:https://asso.publier74.org/wp-content/uploads/20
 24/10/11-nov-730x1024-1.jpg
CATEGORIES:Humanitaire,Mairie
END:VEVENT
BEGIN:VTIMEZONE
TZID:Europe/Paris
X-LIC-LOCATION:Europe/Paris
BEGIN:STANDARD
DTSTART:20241027T020000
TZOFFSETFROM:+0200
TZOFFSETTO:+0100
TZNAME:CET
END:STANDARD
END:VTIMEZONE
END:VCALENDAR