BEGIN:VCALENDAR
VERSION:2.0
PRODID:-//wp-events-plugin.com//7.2.3.1//EN
TZID:Europe/Paris
X-WR-TIMEZONE:Europe/Paris
BEGIN:VEVENT
UID:212@asso.publier74.org
DTSTART;TZID=Europe/Paris:20250314T150000
DTEND;TZID=Europe/Paris:20250314T190000
DTSTAMP:20250211T171306Z
URL:https://asso.publier74.org/events/collecte-de-sang/
SUMMARY:Collecte de sang
DESCRIPTION:L'association des donneurs de sang de Publier Amphion Marin org
 anise une collecte de sang le vendredi 14 mars 2025 de 15h à 19h à la sa
 lle polyvalente de Marin.
ATTACH;FMTTYPE=image/jpeg:https://asso.publier74.org/wp-content/uploads/20
 25/01/Don_sang-3-scaled.jpg
CATEGORIES:Humanitaire
END:VEVENT
BEGIN:VTIMEZONE
TZID:Europe/Paris
X-LIC-LOCATION:Europe/Paris
BEGIN:STANDARD
DTSTART:20241027T020000
TZOFFSETFROM:+0200
TZOFFSETTO:+0100
TZNAME:CET
END:STANDARD
END:VTIMEZONE
END:VCALENDAR