BEGIN:VCALENDAR
VERSION:2.0
PRODID:-//wp-events-plugin.com//7.2.3.1//EN
TZID:Europe/Paris
X-WR-TIMEZONE:Europe/Paris
BEGIN:VEVENT
UID:408@asso.publier74.org
DTSTART;TZID=Europe/Paris:20260426T150000
DTEND;TZID=Europe/Paris:20260426T150000
DTSTAMP:20260421T155555Z
URL:https://asso.publier74.org/events/autour-du-journal-danne-frank/
SUMMARY:Autour du journal d'Anne Frank
DESCRIPTION:Spectacle " Autour du journal d'Anne Frank" mise en scène par 
 Joëlle Batal avec la Valentin's Compagny.\n\nDimanche 26 avril et vendred
 i 8 mai 2026.\n\nRenseignements au 06 24 78 40 44
ATTACH;FMTTYPE=image/jpeg:https://asso.publier74.org/wp-content/uploads/20
 26/04/Affiche-representation-Anne-Frank-1-pdf-1.jpg
CATEGORIES:Prestation / Concerts / Théâtre / Spectacle
LOCATION:Château des Allinges\, Le château\, Allinges\, France
X-APPLE-STRUCTURED-LOCATION;VALUE=URI;X-ADDRESS=Le château\, Allinges\, Fr
 ance;X-APPLE-RADIUS=100;X-TITLE=Château des Allinges:geo:0,0
END:VEVENT
BEGIN:VTIMEZONE
TZID:Europe/Paris
X-LIC-LOCATION:Europe/Paris
BEGIN:DAYLIGHT
DTSTART:20260329T030000
TZOFFSETFROM:+0100
TZOFFSETTO:+0200
TZNAME:CEST
END:DAYLIGHT
END:VTIMEZONE
END:VCALENDAR