BEGIN:VCALENDAR
VERSION:2.0
PRODID:-//wp-events-plugin.com//7.2.3.1//EN
TZID:Europe/Paris
X-WR-TIMEZONE:Europe/Paris
BEGIN:VEVENT
UID:409@asso.publier74.org
DTSTART;TZID=Europe/Paris:20260508T150000
DTEND;TZID=Europe/Paris:20260508T150000
DTSTAMP:20260421T160458Z
URL:https://asso.publier74.org/events/autour-du-journal-danne-frank-2/
SUMMARY:"Autour du journal d'Anne Frank"
DESCRIPTION:Spectacle  » Autour du journal d’Anne Frank » mise en sc
 ène par Joëlle Batal avec la Valentin’s Compagny.\n\nDimanche 26 avril
  et vendredi 8 mai 2026.\n\nRenseignements au 06 24 78 40 44
ATTACH;FMTTYPE=image/jpeg:https://asso.publier74.org/wp-content/uploads/20
 26/04/Affiche-representation-Anne-Frank-1-pdf-1.jpg
CATEGORIES:Prestation / Concerts / Théâtre / Spectacle
LOCATION:Châteaux des Allinges\, ALLINGES\, France
X-APPLE-STRUCTURED-LOCATION;VALUE=URI;X-ADDRESS=ALLINGES\, France;X-APPLE-R
 ADIUS=100;X-TITLE=Châteaux des Allinges:geo:0,0
END:VEVENT
BEGIN:VTIMEZONE
TZID:Europe/Paris
X-LIC-LOCATION:Europe/Paris
BEGIN:DAYLIGHT
DTSTART:20260329T030000
TZOFFSETFROM:+0100
TZOFFSETTO:+0200
TZNAME:CEST
END:DAYLIGHT
END:VTIMEZONE
END:VCALENDAR